BEGIN:VCALENDAR
VERSION:2.0
PRODID:-//Boka Symphony Orchesta - ECPv6.15.13.1//NONSGML v1.0//EN
CALSCALE:GREGORIAN
METHOD:PUBLISH
X-WR-CALNAME:Boka Symphony Orchesta
X-ORIGINAL-URL:https://bokasymphony.com
X-WR-CALDESC:Events for Boka Symphony Orchesta
REFRESH-INTERVAL;VALUE=DURATION:PT1H
X-Robots-Tag:noindex
X-PUBLISHED-TTL:PT1H
BEGIN:VTIMEZONE
TZID:UTC
BEGIN:STANDARD
TZOFFSETFROM:+0000
TZOFFSETTO:+0000
TZNAME:UTC
DTSTART:20250101T000000
END:STANDARD
END:VTIMEZONE
BEGIN:VEVENT
DTSTART;TZID=UTC:20260101T120000
DTEND;TZID=UTC:20260101T133000
DTSTAMP:20260421T232007
CREATED:20260111T212210Z
LAST-MODIFIED:20260208T103254Z
UID:908-1767268800-1767274200@bokasymphony.com
SUMMARY:New Year Concert
DESCRIPTION:On 1 January 2026 at 12:00\, the Boka Symphony Orchestra will open the year with a festive New Year Concert at the main square in Budva\, organised by the Budva Tourist Organization. The programme will bring together opera\, operetta\, and orchestral favourites\, offering a graceful introduction to the year ahead. \nThe orchestra will perform under the baton of maestro Robert Homen\, with an exceptional lineup of soloists: sopranos Milica Zdravković and Lana-Asija Dabović\, mezzo-soprano Amanda Stojović\, tenor Ileš Bečei\, and flautist Petra Lekić. \nThe concert will feature works by Johann Strauss II\, Mozart\, Verdi\, Puccini\, Dvořák\, Bizet\, Offenbach\, Delibes\, Lehár\, and Sartori. Highlights of the programme will include Dvořák’s “Moon Song” from Rusalka\, Bizet’s Habanera from Carmen\, Puccini’s “O mio babbino caro”\, as well as instrumental brilliance in François Borne’s Fantaisie brillante sur Carmen for flute and orchestra. Vocal duets such as Lehár’s “Lippen schweigen” and Sartori’s “Con te partirò” will further enrich the afternoon’s performance. \nOpen to residents and visitors alike\, the New Year Concert will bring a sense of celebration\, warmth\, and cultural elegance to Budva’s winter festivities\,setting a refined tone for the year to come.
URL:https://bokasymphony.com/event/new-year-concert/
LOCATION:Budva\, Old Town\, Budva\, Budva\, Montenegro
CATEGORIES:Concerts
ATTACH;FMTTYPE=image/webp:https://bokasymphony.com/wp-content/uploads/2026/01/5S8A4729-1-scaled.webp
END:VEVENT
BEGIN:VEVENT
DTSTART;TZID=UTC:20260713T210000
DTEND;TZID=UTC:20260713T210000
DTSTAMP:20260421T232007
CREATED:20260111T223609Z
LAST-MODIFIED:20260208T103251Z
UID:960-1783976400-1783976400@bokasymphony.com
SUMMARY:Grand Opening – KotorArt Festival
DESCRIPTION:The Boka Symphony Orchestra will open this year’s edition of the KotorArt Festival with an open-air concert in front of the historic Cathedral of Saint Tryphon. Set against the backdrop of Kotor’s Old Town\, the evening will feature a thoughtfully curated programme with distinguished soloists\, highlighting both the universal symphonic repertoire and the cultural heritage of Boka. \nDetails regarding access and ticketing will be announced by the organisers soon. \nMore programme information coming up — stay tuned.
URL:https://bokasymphony.com/event/grand-opening-kotorart-festival/
LOCATION:Kotor\, Old Town\, kotor\, 85330\, Montenegro
CATEGORIES:Concerts
END:VEVENT
END:VCALENDAR